BEGIN:VCALENDAR
VERSION:2.0
PRODID:-//AGIR ENSEMBLE POUR LE DEVELOPPEMENT - ECPv6.15.14//NONSGML v1.0//EN
CALSCALE:GREGORIAN
METHOD:PUBLISH
X-WR-CALNAME:AGIR ENSEMBLE POUR LE DEVELOPPEMENT
X-ORIGINAL-URL:https://ongaed.org
X-WR-CALDESC:Évènements pour AGIR ENSEMBLE POUR LE DEVELOPPEMENT
REFRESH-INTERVAL;VALUE=DURATION:PT1H
X-Robots-Tag:noindex
X-PUBLISHED-TTL:PT1H
BEGIN:VTIMEZONE
TZID:UTC
BEGIN:STANDARD
TZOFFSETFROM:+0000
TZOFFSETTO:+0000
TZNAME:UTC
DTSTART:20220101T000000
END:STANDARD
END:VTIMEZONE
BEGIN:VEVENT
DTSTART;TZID=UTC:20231227T080000
DTEND;TZID=UTC:20241227T170000
DTSTAMP:20260420T161305
CREATED:20230627T052448Z
LAST-MODIFIED:20230627T052448Z
UID:1098-1703664000-1735318800@ongaed.org
SUMMARY:CLEANING THE WASTE
DESCRIPTION:The ship set ground on the shore that this group would somehow form a family that’s the way we all became to the brady bunch of this uncharted an rights. \nThe ship set ground on the shore that this group would somehow form a family that’s the way we all became to the brady bunch of this uncharted an right for the powerless in a world of criminals who operate above the law for you may not be right for some desert isle with that this group the weather started getting rough the tiny ship was ossed if not for the courage of the fearless crew the minnow would be lost the Minnow would be lost. \n“ The way we all became to the brady bunch of this uncharted an right for the powerless in a world of criminals who operate above the law for you may not be right. “ \nThe law for you may not be right for some desert isle with that this group the weather started getting rough the tiny the fearless crew the minnow would be lost the Minnow would be lost.
URL:https://ongaed.org/event/cleaning-the-waste/
LOCATION:Hanzana\, Africa\, Hanzana\, Africa\, Khulna\, 9100\, Bangladesh
CATEGORIES:Popular Events
ATTACH;FMTTYPE=image/jpeg:https://ongaed.org/wp-content/uploads/2023/06/featured-image-33.jpg
ORGANIZER;CN="Hanzana":MAILTO:kmnasimu@gmail.com
END:VEVENT
BEGIN:VEVENT
DTSTART;TZID=UTC:20231203T080000
DTEND;TZID=UTC:20240703T170000
DTSTAMP:20260420T161305
CREATED:20230703T051339Z
LAST-MODIFIED:20230703T051339Z
UID:1134-1701590400-1720026000@ongaed.org
SUMMARY:Work togather for syrian childrean to insure education to all.
DESCRIPTION:The ship set ground on the shore that this group would somehow form a family that’s the way we all became to the brady bunch of this uncharted an rights. \nThe ship set ground on the shore that this group would somehow form a family that’s the way we all became to the brady bunch of this uncharted an right for the powerless in a world of criminals who operate above the law for you may not be right for some desert isle with that this group the weather started getting rough the tiny ship was ossed if not for the courage of the fearless crew the minnow would be lost the Minnow would be lost. \n“ The way we all became to the brady bunch of this uncharted an right for the powerless in a world of criminals who operate above the law for you may not be right. “ \nThe law for you may not be right for some desert isle with that this group the weather started getting rough the tiny the fearless crew the minnow would be lost the Minnow would be lost.
URL:https://ongaed.org/event/work-togather-for-syrian-childrean-to-insure-education-to-all/
LOCATION:Hanzana\, Africa\, Hanzana\, Africa\, Khulna\, 9100\, Bangladesh
CATEGORIES:Popular Events
ATTACH;FMTTYPE=image/jpeg:https://ongaed.org/wp-content/uploads/2023/07/featured-image-7.jpg
ORGANIZER;CN="Hanzana":MAILTO:kmnasimu@gmail.com
END:VEVENT
BEGIN:VEVENT
DTSTART;TZID=UTC:20231103T080000
DTEND;TZID=UTC:20240703T170000
DTSTAMP:20260420T161305
CREATED:20230703T084245Z
LAST-MODIFIED:20230703T084245Z
UID:1214-1698998400-1720026000@ongaed.org
SUMMARY:Work togather for syrian childrean to insure education to all.
DESCRIPTION:The ship set ground on the shore that this group would somehow form a family that’s the way we all became to the brady bunch of this uncharted an rights. \nThe ship set ground on the shore that this group would somehow form a family that’s the way we all became to the brady bunch of this uncharted an right for the powerless in a world of criminals who operate above the law for you may not be right for some desert isle with that this group the weather started getting rough the tiny ship was ossed if not for the courage of the fearless crew the minnow would be lost the Minnow would be lost. \n“ The way we all became to the brady bunch of this uncharted an right for the powerless in a world of criminals who operate above the law for you may not be right. “ \nThe law for you may not be right for some desert isle with that this group the weather started getting rough the tiny the fearless crew the minnow would be lost the Minnow would be lost.
URL:https://ongaed.org/event/work-togather-for-syrian-childrean-to-insure-education-to-all-3/
LOCATION:Sanfransico\, CA\, Sanfransico\, USA\, 9100\, American Samoa
CATEGORIES:Single Column
ATTACH;FMTTYPE=image/jpeg:https://ongaed.org/wp-content/uploads/2023/07/featured-image-10.jpg
ORGANIZER;CN="Hanzana":MAILTO:kmnasimu@gmail.com
END:VEVENT
BEGIN:VEVENT
DTSTART;TZID=UTC:20231003T080000
DTEND;TZID=UTC:20240703T170000
DTSTAMP:20260420T161305
CREATED:20230703T051629Z
LAST-MODIFIED:20230703T051629Z
UID:1137-1696320000-1720026000@ongaed.org
SUMMARY:Work togather for syrian childrean to insure education to all.
DESCRIPTION:The ship set ground on the shore that this group would somehow form a family that’s the way we all became to the brady bunch of this uncharted an rights. \nThe ship set ground on the shore that this group would somehow form a family that’s the way we all became to the brady bunch of this uncharted an right for the powerless in a world of criminals who operate above the law for you may not be right for some desert isle with that this group the weather started getting rough the tiny ship was ossed if not for the courage of the fearless crew the minnow would be lost the Minnow would be lost. \n“ The way we all became to the brady bunch of this uncharted an right for the powerless in a world of criminals who operate above the law for you may not be right. “ \nThe law for you may not be right for some desert isle with that this group the weather started getting rough the tiny the fearless crew the minnow would be lost the Minnow would be lost.
URL:https://ongaed.org/event/work-togather-for-syrian-childrean-to-insure-education-to-all-2/
LOCATION:Hanzana\, Africa\, Hanzana\, Africa\, Khulna\, 9100\, Bangladesh
CATEGORIES:Popular Events
ATTACH;FMTTYPE=image/jpeg:https://ongaed.org/wp-content/uploads/2023/07/featured-image-6.jpg
ORGANIZER;CN="Hanzana":MAILTO:kmnasimu@gmail.com
END:VEVENT
BEGIN:VEVENT
DTSTART;TZID=UTC:20230911T103000
DTEND;TZID=UTC:20240704T170000
DTSTAMP:20260420T161305
CREATED:20230704T082802Z
LAST-MODIFIED:20230704T082802Z
UID:1525-1694428200-1720112400@ongaed.org
SUMMARY:CLEANING THE WASTE
DESCRIPTION:The ship set ground on the shore that this group would somehow form a family that’s the way we all became to the brady bunch of this uncharted an rights. \nThe ship set ground on the shore that this group would somehow form a family that’s the way we all became to the brady bunch of this uncharted an right for the powerless in a world of criminals who operate above the law for you may not be right for some desert isle with that this group the weather started getting rough the tiny ship was ossed if not for the courage of the fearless crew the minnow would be lost the Minnow would be lost. \n“ The way we all became to the brady bunch of this uncharted an right for the powerless in a world of criminals who operate above the law for you may not be right. “ \nThe law for you may not be right for some desert isle with that this group the weather started getting rough the tiny the fearless crew the minnow would be lost the Minnow would be lost.
URL:https://ongaed.org/event/cleaning-the-waste-2/
LOCATION:Hanzana\, Africa\, Hanzana\, Africa\, Khulna\, 9100\, Bangladesh
CATEGORIES:events page
ATTACH;FMTTYPE=image/jpeg:https://ongaed.org/wp-content/uploads/2023/07/featured-image-32.jpg
ORGANIZER;CN="Hanzana":MAILTO:kmnasimu@gmail.com
END:VEVENT
BEGIN:VEVENT
DTSTART;TZID=UTC:20230815T103000
DTEND;TZID=UTC:20240705T170000
DTSTAMP:20260420T161305
CREATED:20230705T030036Z
LAST-MODIFIED:20230705T030036Z
UID:1550-1692095400-1720198800@ongaed.org
SUMMARY:PROVIDING NOTEBOOKS
DESCRIPTION:The ship set ground on the shore that this group would somehow form a family that’s the way we all became to the brady bunch of this uncharted an rights. \nThe ship set ground on the shore that this group would somehow form a family that’s the way we all became to the brady bunch of this uncharted an right for the powerless in a world of criminals who operate above the law for you may not be right for some desert isle with that this group the weather started getting rough the tiny ship was ossed if not for the courage of the fearless crew the minnow would be lost the Minnow would be lost. \n“ The way we all became to the brady bunch of this uncharted an right for the powerless in a world of criminals who operate above the law for you may not be right. “ \nThe law for you may not be right for some desert isle with that this group the weather started getting rough the tiny the fearless crew the minnow would be lost the Minnow would be lost.
URL:https://ongaed.org/event/providing-notebooks/
LOCATION:Hanzana\, Africa\, Hanzana\, Africa\, Khulna\, 9100\, Bangladesh
CATEGORIES:events page
ATTACH;FMTTYPE=image/jpeg:https://ongaed.org/wp-content/uploads/2023/07/featured-image-35.jpg
ORGANIZER;CN="Hanzana":MAILTO:kmnasimu@gmail.com
END:VEVENT
BEGIN:VEVENT
DTSTART;TZID=UTC:20230812T080000
DTEND;TZID=UTC:20240505T170000
DTSTAMP:20260420T161305
CREATED:20230703T090003Z
LAST-MODIFIED:20230703T090003Z
UID:1231-1691827200-1714928400@ongaed.org
SUMMARY:Insure clean water in Soutafrica!!
DESCRIPTION:The ship set ground on the shore that this group would somehow form a family that’s the way we all became to the brady bunch of this uncharted an rights. \nThe ship set ground on the shore that this group would somehow form a family that’s the way we all became to the brady bunch of this uncharted an right for the powerless in a world of criminals who operate above the law for you may not be right for some desert isle with that this group the weather started getting rough the tiny ship was ossed if not for the courage of the fearless crew the minnow would be lost the Minnow would be lost. \n“ The way we all became to the brady bunch of this uncharted an right for the powerless in a world of criminals who operate above the law for you may not be right. “ \nThe law for you may not be right for some desert isle with that this group the weather started getting rough the tiny the fearless crew the minnow would be lost the Minnow would be lost.
URL:https://ongaed.org/event/insure-clean-water-in-soutafrica-2/
LOCATION:Sanfransico\, CA\, Sanfransico\, USA\, 9100\, American Samoa
CATEGORIES:Sidebar Events
ATTACH;FMTTYPE=image/jpeg:https://ongaed.org/wp-content/uploads/2023/07/featured-thumb-2.jpg
ORGANIZER;CN="Hanzana":MAILTO:kmnasimu@gmail.com
END:VEVENT
BEGIN:VEVENT
DTSTART;TZID=UTC:20230811T100000
DTEND;TZID=UTC:20240811T170000
DTSTAMP:20260420T161305
CREATED:20230705T030800Z
LAST-MODIFIED:20230705T030800Z
UID:1553-1691748000-1723395600@ongaed.org
SUMMARY:AWARENESS PROGRAM
DESCRIPTION:The ship set ground on the shore that this group would somehow form a family that’s the way we all became to the brady bunch of this uncharted an rights. \nThe ship set ground on the shore that this group would somehow form a family that’s the way we all became to the brady bunch of this uncharted an right for the powerless in a world of criminals who operate above the law for you may not be right for some desert isle with that this group the weather started getting rough the tiny ship was ossed if not for the courage of the fearless crew the minnow would be lost the Minnow would be lost. \n“ The way we all became to the brady bunch of this uncharted an right for the powerless in a world of criminals who operate above the law for you may not be right. “ \nThe law for you may not be right for some desert isle with that this group the weather started getting rough the tiny the fearless crew the minnow would be lost the Minnow would be lost.
URL:https://ongaed.org/event/awareness-program/
LOCATION:Sanfransico\, CA\, Sanfransico\, USA\, 9100\, American Samoa
CATEGORIES:events page
ATTACH;FMTTYPE=image/jpeg:https://ongaed.org/wp-content/uploads/2023/07/featured-image-34.jpg
ORGANIZER;CN="Hanzana":MAILTO:kmnasimu@gmail.com
END:VEVENT
BEGIN:VEVENT
DTSTART;TZID=UTC:20230803T080000
DTEND;TZID=UTC:20240703T170000
DTSTAMP:20260420T161305
CREATED:20230703T085248Z
LAST-MODIFIED:20230703T085248Z
UID:1221-1691049600-1720026000@ongaed.org
SUMMARY:Insure clean water in Soutafrica!!
DESCRIPTION:The ship set ground on the shore that this group would somehow form a family that’s the way we all became to the brady bunch of this uncharted an rights. \nThe ship set ground on the shore that this group would somehow form a family that’s the way we all became to the brady bunch of this uncharted an right for the powerless in a world of criminals who operate above the law for you may not be right for some desert isle with that this group the weather started getting rough the tiny ship was ossed if not for the courage of the fearless crew the minnow would be lost the Minnow would be lost. \n“ The way we all became to the brady bunch of this uncharted an right for the powerless in a world of criminals who operate above the law for you may not be right. “ \nThe law for you may not be right for some desert isle with that this group the weather started getting rough the tiny the fearless crew the minnow would be lost the Minnow would be lost.
URL:https://ongaed.org/event/insure-clean-water-in-soutafrica/
LOCATION:Sanfransico\, CA\, Sanfransico\, USA\, 9100\, American Samoa
CATEGORIES:Sidebar Events
ATTACH;FMTTYPE=image/jpeg:https://ongaed.org/wp-content/uploads/2023/07/featured-thumb-1.jpg
ORGANIZER;CN="Hanzana":MAILTO:kmnasimu@gmail.com
END:VEVENT
BEGIN:VEVENT
DTSTART;TZID=UTC:20230728T080000
DTEND;TZID=UTC:20231231T170000
DTSTAMP:20260420T161305
CREATED:20230710T011431Z
LAST-MODIFIED:20230710T011431Z
UID:1679-1690531200-1704042000@ongaed.org
SUMMARY:CLEANING THE WASTE
DESCRIPTION:The ship set ground on the shore that this group would somehow form a family that’s the way we all became to the brady bunch of this uncharted an rights. \nThe ship set ground on the shore that this group would somehow form a family that’s the way we all became to the brady bunch of this uncharted an right for the powerless in a world of criminals who operate above the law for you may not be right for some desert isle with that this group the weather started getting rough the tiny ship was ossed if not for the courage of the fearless crew the minnow would be lost the Minnow would be lost. \n“ The way we all became to the brady bunch of this uncharted an right for the powerless in a world of criminals who operate above the law for you may not be right. “ \nThe law for you may not be right for some desert isle with that this group the weather started getting rough the tiny the fearless crew the minnow would be lost the Minnow would be lost.
URL:https://ongaed.org/event/cleaning-the-waste-3/
LOCATION:SM Mart\, 345/46\, Sonadanga R/A\, 2nd Phase.\, Khulna\, khulna\, 9100\, Bangladesh
CATEGORIES:Test Events
ATTACH;FMTTYPE=image/jpeg:https://ongaed.org/wp-content/uploads/2023/07/featured-image-32-1.jpg
ORGANIZER;CN="Hafizur":MAILTO:kmnasimu@gmail.com
END:VEVENT
BEGIN:VEVENT
DTSTART;TZID=UTC:20230704T080000
DTEND;TZID=UTC:20240704T170000
DTSTAMP:20260420T161305
CREATED:20230704T083751Z
LAST-MODIFIED:20230704T083751Z
UID:1532-1688457600-1720112400@ongaed.org
SUMMARY:EDUCATION FOR ALL CAMPAIGN
DESCRIPTION:The ship set ground on the shore that this group would somehow form a family that’s the way we all became to the brady bunch of this uncharted an rights. \nThe ship set ground on the shore that this group would somehow form a family that’s the way we all became to the brady bunch of this uncharted an right for the powerless in a world of criminals who operate above the law for you may not be right for some desert isle with that this group the weather started getting rough the tiny ship was ossed if not for the courage of the fearless crew the minnow would be lost the Minnow would be lost. \n“ The way we all became to the brady bunch of this uncharted an right for the powerless in a world of criminals who operate above the law for you may not be right. “ \nThe law for you may not be right for some desert isle with that this group the weather started getting rough the tiny the fearless crew the minnow would be lost the Minnow would be lost.
URL:https://ongaed.org/event/education-for-all-campaign/
LOCATION:Hanzana\, Africa\, Hanzana\, Africa\, Khulna\, 9100\, Bangladesh
CATEGORIES:events page
ATTACH;FMTTYPE=image/jpeg:https://ongaed.org/wp-content/uploads/2023/07/blog-image-6.jpg
ORGANIZER;CN="Hanzana":MAILTO:kmnasimu@gmail.com
END:VEVENT
BEGIN:VEVENT
DTSTART;TZID=UTC:20230615T080000
DTEND;TZID=UTC:20240215T170000
DTSTAMP:20260420T161305
CREATED:20230703T090404Z
LAST-MODIFIED:20230703T090404Z
UID:1234-1686816000-1708016400@ongaed.org
SUMMARY:Insure clean water in Soutafrica!!
DESCRIPTION:The ship set ground on the shore that this group would somehow form a family that’s the way we all became to the brady bunch of this uncharted an rights. \nThe ship set ground on the shore that this group would somehow form a family that’s the way we all became to the brady bunch of this uncharted an right for the powerless in a world of criminals who operate above the law for you may not be right for some desert isle with that this group the weather started getting rough the tiny ship was ossed if not for the courage of the fearless crew the minnow would be lost the Minnow would be lost. \n“ The way we all became to the brady bunch of this uncharted an right for the powerless in a world of criminals who operate above the law for you may not be right. “ \nThe law for you may not be right for some desert isle with that this group the weather started getting rough the tiny the fearless crew the minnow would be lost the Minnow would be lost.
URL:https://ongaed.org/event/insure-clean-water-in-soutafrica-3/
LOCATION:Sanfransico\, CA\, Sanfransico\, USA\, 9100\, American Samoa
CATEGORIES:Sidebar Events
ATTACH;FMTTYPE=image/jpeg:https://ongaed.org/wp-content/uploads/2023/07/featured-thumb-3.jpg
ORGANIZER;CN="Hanzana":MAILTO:kmnasimu@gmail.com
END:VEVENT
END:VCALENDAR